BEGIN:VCALENDAR
VERSION:2.0
PRODID:-//Scouting America - Mobile Area Council - ECPv6.15.20//NONSGML v1.0//EN
CALSCALE:GREGORIAN
METHOD:PUBLISH
X-WR-CALNAME:Scouting America - Mobile Area Council
X-ORIGINAL-URL:https://scoutingmac.org
X-WR-CALDESC:Events for Scouting America - Mobile Area Council
REFRESH-INTERVAL;VALUE=DURATION:PT1H
X-Robots-Tag:noindex
X-PUBLISHED-TTL:PT1H
BEGIN:VTIMEZONE
TZID:America/Chicago
BEGIN:DAYLIGHT
TZOFFSETFROM:-0600
TZOFFSETTO:-0500
TZNAME:CDT
DTSTART:20240310T080000
END:DAYLIGHT
BEGIN:STANDARD
TZOFFSETFROM:-0500
TZOFFSETTO:-0600
TZNAME:CST
DTSTART:20241103T070000
END:STANDARD
BEGIN:DAYLIGHT
TZOFFSETFROM:-0600
TZOFFSETTO:-0500
TZNAME:CDT
DTSTART:20250309T080000
END:DAYLIGHT
BEGIN:STANDARD
TZOFFSETFROM:-0500
TZOFFSETTO:-0600
TZNAME:CST
DTSTART:20251102T070000
END:STANDARD
BEGIN:DAYLIGHT
TZOFFSETFROM:-0600
TZOFFSETTO:-0500
TZNAME:CDT
DTSTART:20260308T080000
END:DAYLIGHT
BEGIN:STANDARD
TZOFFSETFROM:-0500
TZOFFSETTO:-0600
TZNAME:CST
DTSTART:20261101T070000
END:STANDARD
END:VTIMEZONE
BEGIN:VEVENT
DTSTART;VALUE=DATE:20250314
DTEND;VALUE=DATE:20250317
DTSTAMP:20260424T163420
CREATED:20241002T004410Z
LAST-MODIFIED:20241002T004410Z
UID:980-1741910400-1742169599@scoutingmac.org
SUMMARY:Top Scout Camporall
DESCRIPTION:Joint Baldwin District & Five Rivers District Camporee\,
URL:https://scoutingmac.org/events-calendar/top-scout-camporall/
LOCATION:2332 Camp Maubila Road\, Grove Hill\, AL 36451
END:VEVENT
END:VCALENDAR