BEGIN:VCALENDAR
VERSION:2.0
PRODID:-//Scouting America - Mobile Area Council - ECPv6.15.20//NONSGML v1.0//EN
CALSCALE:GREGORIAN
METHOD:PUBLISH
X-WR-CALNAME:Scouting America - Mobile Area Council
X-ORIGINAL-URL:https://scoutingmac.org
X-WR-CALDESC:Events for Scouting America - Mobile Area Council
REFRESH-INTERVAL;VALUE=DURATION:PT1H
X-Robots-Tag:noindex
X-PUBLISHED-TTL:PT1H
BEGIN:VTIMEZONE
TZID:America/Chicago
BEGIN:DAYLIGHT
TZOFFSETFROM:-0600
TZOFFSETTO:-0500
TZNAME:CDT
DTSTART:20240310T080000
END:DAYLIGHT
BEGIN:STANDARD
TZOFFSETFROM:-0500
TZOFFSETTO:-0600
TZNAME:CST
DTSTART:20241103T070000
END:STANDARD
BEGIN:DAYLIGHT
TZOFFSETFROM:-0600
TZOFFSETTO:-0500
TZNAME:CDT
DTSTART:20250309T080000
END:DAYLIGHT
BEGIN:STANDARD
TZOFFSETFROM:-0500
TZOFFSETTO:-0600
TZNAME:CST
DTSTART:20251102T070000
END:STANDARD
BEGIN:DAYLIGHT
TZOFFSETFROM:-0600
TZOFFSETTO:-0500
TZNAME:CDT
DTSTART:20260308T080000
END:DAYLIGHT
BEGIN:STANDARD
TZOFFSETFROM:-0500
TZOFFSETTO:-0600
TZNAME:CST
DTSTART:20261101T070000
END:STANDARD
END:VTIMEZONE
BEGIN:VEVENT
DTSTART;VALUE=DATE:20250321
DTEND;VALUE=DATE:20250324
DTSTAMP:20260424T203528
CREATED:20241002T004615Z
LAST-MODIFIED:20241002T004615Z
UID:985-1742515200-1742774399@scoutingmac.org
SUMMARY:Order of the Arrow Spring Ordeal
DESCRIPTION:
URL:https://scoutingmac.org/events-calendar/order-of-the-arrow-spring-ordeal/
LOCATION:AL
END:VEVENT
BEGIN:VEVENT
DTSTART;TZID=America/Chicago:20250321T180000
DTEND;TZID=America/Chicago:20250323T100000
DTSTAMP:20260424T203528
CREATED:20250204T154853Z
LAST-MODIFIED:20250318T154619Z
UID:1099-1742580000-1742724000@scoutingmac.org
SUMMARY:Order of the Arrow Spring Ordeal 2025
DESCRIPTION:For more information visit https://scoutingevent.com/004-95488
URL:https://scoutingmac.org/events-calendar/order-of-the-arrow-spring-ordeal-2025/
LOCATION:2332 Camp Maubila Road\, Grove Hill\, AL\, United States
END:VEVENT
END:VCALENDAR