BEGIN:VCALENDAR
VERSION:2.0
PRODID:-//Scouting America - Mobile Area Council - ECPv6.15.20//NONSGML v1.0//EN
CALSCALE:GREGORIAN
METHOD:PUBLISH
X-ORIGINAL-URL:https://scoutingmac.org
X-WR-CALDESC:Events for Scouting America - Mobile Area Council
REFRESH-INTERVAL;VALUE=DURATION:PT1H
X-Robots-Tag:noindex
X-PUBLISHED-TTL:PT1H
BEGIN:VTIMEZONE
TZID:America/Chicago
BEGIN:DAYLIGHT
TZOFFSETFROM:-0600
TZOFFSETTO:-0500
TZNAME:CDT
DTSTART:20240310T080000
END:DAYLIGHT
BEGIN:STANDARD
TZOFFSETFROM:-0500
TZOFFSETTO:-0600
TZNAME:CST
DTSTART:20241103T070000
END:STANDARD
BEGIN:DAYLIGHT
TZOFFSETFROM:-0600
TZOFFSETTO:-0500
TZNAME:CDT
DTSTART:20250309T080000
END:DAYLIGHT
BEGIN:STANDARD
TZOFFSETFROM:-0500
TZOFFSETTO:-0600
TZNAME:CST
DTSTART:20251102T070000
END:STANDARD
BEGIN:DAYLIGHT
TZOFFSETFROM:-0600
TZOFFSETTO:-0500
TZNAME:CDT
DTSTART:20260308T080000
END:DAYLIGHT
BEGIN:STANDARD
TZOFFSETFROM:-0500
TZOFFSETTO:-0600
TZNAME:CST
DTSTART:20261101T070000
END:STANDARD
END:VTIMEZONE
BEGIN:VEVENT
DTSTART;TZID=America/Chicago:20250403T180000
DTEND;TZID=America/Chicago:20250403T200000
DTSTAMP:20260424T175436
CREATED:20240729T221914Z
LAST-MODIFIED:20250401T154557Z
UID:888-1743703200-1743710400@scoutingmac.org
SUMMARY:Baldwin District Committee Meeting and Roundtable
DESCRIPTION:For more information visit https://scoutingevent.com/?OrgKey=BSA004&calendarID=531515
URL:https://scoutingmac.org/events-calendar/baldwin-district-committee-meeting-and-roundtable-34/
LOCATION:AL
END:VEVENT
BEGIN:VEVENT
DTSTART;TZID=America/Chicago:20250410T180000
DTEND;TZID=America/Chicago:20250410T200000
DTSTAMP:20260424T175436
CREATED:20240729T221914Z
LAST-MODIFIED:20250408T155052Z
UID:889-1744308000-1744315200@scoutingmac.org
SUMMARY:Five Rivers District Committee Meeting and Roundtable
DESCRIPTION:For more information visit https://scoutingevent.com/?OrgKey=BSA004&calendarID=531610
URL:https://scoutingmac.org/events-calendar/five-rivers-district-committee-meeting-and-roundtable-9/
LOCATION:AL
END:VEVENT
BEGIN:VEVENT
DTSTART;VALUE=DATE:20250411
DTEND;VALUE=DATE:20250414
DTSTAMP:20260424T175436
CREATED:20241002T004849Z
LAST-MODIFIED:20241002T004849Z
UID:987-1744329600-1744588799@scoutingmac.org
SUMMARY:Order of the Arrow Conclave
DESCRIPTION:
URL:https://scoutingmac.org/events-calendar/order-of-the-arrow-conclave/
LOCATION:2332 Camp Maubila Road\, Grove Hill\, AL 36451
END:VEVENT
BEGIN:VEVENT
DTSTART;VALUE=DATE:20250418
DTEND;VALUE=DATE:20250419
DTSTAMP:20260424T175436
CREATED:20250314T214331Z
LAST-MODIFIED:20250317T135128Z
UID:1115-1744934400-1745020799@scoutingmac.org
SUMMARY:Council Office Closed Good Friday
DESCRIPTION:
URL:https://scoutingmac.org/events-calendar/council-office-closed-good-friday/
LOCATION:AL
END:VEVENT
BEGIN:VEVENT
DTSTART;TZID=America/Chicago:20250426T100000
DTEND;TZID=America/Chicago:20250426T140000
DTSTAMP:20260424T175436
CREATED:20250318T154617Z
LAST-MODIFIED:20250422T160212Z
UID:1129-1745661600-1745676000@scoutingmac.org
SUMMARY:Kappa Merit Badge Clinic 2025
DESCRIPTION:For more information visit https://scoutingevent.com/004-97768
URL:https://scoutingmac.org/events-calendar/kappa-merit-badge-clinic-2025-3/
LOCATION:650 St. Francis\, Mobile\, AL\, United States
END:VEVENT
BEGIN:VEVENT
DTSTART;TZID=America/Chicago:20250426T100000
DTEND;TZID=America/Chicago:20250426T150000
DTSTAMP:20260424T175436
CREATED:20250317T143703Z
LAST-MODIFIED:20250317T144720Z
UID:1121-1745661600-1745679600@scoutingmac.org
SUMMARY:Kappa Merit Badge Clinic
DESCRIPTION:https://scoutingevent.com/004-97768 \n 
URL:https://scoutingmac.org/events-calendar/kappa-merit-badge-clinic/
LOCATION:AL
END:VEVENT
BEGIN:VEVENT
DTSTART;TZID=America/Chicago:20250428T180000
DTEND;TZID=America/Chicago:20250428T200000
DTSTAMP:20260424T175436
CREATED:20250314T211553Z
LAST-MODIFIED:20250314T211553Z
UID:1114-1745863200-1745870400@scoutingmac.org
SUMMARY:Golden Eagle Event
DESCRIPTION:
URL:https://scoutingmac.org/events-calendar/golden-eagle-event/
LOCATION:AL
END:VEVENT
END:VCALENDAR